BEGIN:VCALENDAR
VERSION:2.0
PRODID:-//Netzwerk Finanzkompetenz - ECPv6.15.20//NONSGML v1.0//EN
CALSCALE:GREGORIAN
METHOD:PUBLISH
X-ORIGINAL-URL:https://www.netzwerk-finanzkompetenz.com
X-WR-CALDESC:Veranstaltungen für Netzwerk Finanzkompetenz
REFRESH-INTERVAL;VALUE=DURATION:PT1H
X-Robots-Tag:noindex
X-PUBLISHED-TTL:PT1H
BEGIN:VTIMEZONE
TZID:Europe/Berlin
BEGIN:DAYLIGHT
TZOFFSETFROM:+0100
TZOFFSETTO:+0200
TZNAME:CEST
DTSTART:20240331T010000
END:DAYLIGHT
BEGIN:STANDARD
TZOFFSETFROM:+0200
TZOFFSETTO:+0100
TZNAME:CET
DTSTART:20241027T010000
END:STANDARD
BEGIN:DAYLIGHT
TZOFFSETFROM:+0100
TZOFFSETTO:+0200
TZNAME:CEST
DTSTART:20250330T010000
END:DAYLIGHT
BEGIN:STANDARD
TZOFFSETFROM:+0200
TZOFFSETTO:+0100
TZNAME:CET
DTSTART:20251026T010000
END:STANDARD
BEGIN:DAYLIGHT
TZOFFSETFROM:+0100
TZOFFSETTO:+0200
TZNAME:CEST
DTSTART:20260329T010000
END:DAYLIGHT
BEGIN:STANDARD
TZOFFSETFROM:+0200
TZOFFSETTO:+0100
TZNAME:CET
DTSTART:20261025T010000
END:STANDARD
END:VTIMEZONE
BEGIN:VEVENT
DTSTART;TZID=Europe/Berlin:20251105T091000
DTEND;TZID=Europe/Berlin:20251105T134500
DTSTAMP:20260421T235905
CREATED:20251002T101452Z
LAST-MODIFIED:20251002T101636Z
UID:10203-1762333800-1762350300@www.netzwerk-finanzkompetenz.com
SUMMARY:Zahlungsverzug: Was passiert\, wenn ich Rechnungen nicht bezahle?
DESCRIPTION:
URL:https://www.netzwerk-finanzkompetenz.com/event/zahlungsverzug-was-passiert-wenn-ich-rechnungen-nicht-bezahle-4/
LOCATION:Robert-Koch-Realschule\, Am Hombruchsfeld 69\, Dortmund\, 44225
CATEGORIES:Vortrag/Seminar
ORGANIZER;CN="Herbert Mensing (Gerichtsvollzieher a.D.)":MAILTO:herbert.mensing@t-online.de
END:VEVENT
BEGIN:VEVENT
DTSTART;TZID=Europe/Berlin:20251112T091000
DTEND;TZID=Europe/Berlin:20251112T134500
DTSTAMP:20260421T235905
CREATED:20251002T101618Z
LAST-MODIFIED:20251002T101618Z
UID:10205-1762938600-1762955100@www.netzwerk-finanzkompetenz.com
SUMMARY:Zahlungsverzug: Was passiert\, wenn ich Rechnungen nicht bezahle?
DESCRIPTION:
URL:https://www.netzwerk-finanzkompetenz.com/event/zahlungsverzug-was-passiert-wenn-ich-rechnungen-nicht-bezahle-5/
LOCATION:Robert-Koch-Realschule\, Am Hombruchsfeld 69\, Dortmund\, 44225
CATEGORIES:Vortrag/Seminar
ORGANIZER;CN="Dr. Robert Jung":MAILTO:robert.jung@spieker-jaeger.de
END:VEVENT
BEGIN:VEVENT
DTSTART;TZID=Europe/Berlin:20251113T090000
DTEND;TZID=Europe/Berlin:20251113T130000
DTSTAMP:20260421T235905
CREATED:20251009T154036Z
LAST-MODIFIED:20251009T154036Z
UID:10229-1763024400-1763038800@www.netzwerk-finanzkompetenz.com
SUMMARY:Zahlungsverzug: Was passiert\, wenn ich Rechnungen nicht bezahle?
DESCRIPTION:
URL:https://www.netzwerk-finanzkompetenz.com/event/zahlungsverzug-was-passiert-wenn-ich-rechnungen-nicht-bezahle-6/
LOCATION:Marie-Reinders-Realschule\, Hochofenstr. 38\, Dortmund\, 44263
CATEGORIES:Vortrag/Seminar
ORGANIZER;CN="Herbert Mensing (Gerichtsvollzieher a.D.)":MAILTO:herbert.mensing@t-online.de
END:VEVENT
END:VCALENDAR