BEGIN:VCALENDAR
VERSION:2.0
PRODID:-//Netzwerk Finanzkompetenz - ECPv6.15.20//NONSGML v1.0//EN
CALSCALE:GREGORIAN
METHOD:PUBLISH
X-ORIGINAL-URL:https://www.netzwerk-finanzkompetenz.com
X-WR-CALDESC:Veranstaltungen für Netzwerk Finanzkompetenz
REFRESH-INTERVAL;VALUE=DURATION:PT1H
X-Robots-Tag:noindex
X-PUBLISHED-TTL:PT1H
BEGIN:VTIMEZONE
TZID:Europe/Berlin
BEGIN:DAYLIGHT
TZOFFSETFROM:+0100
TZOFFSETTO:+0200
TZNAME:CEST
DTSTART:20240331T010000
END:DAYLIGHT
BEGIN:STANDARD
TZOFFSETFROM:+0200
TZOFFSETTO:+0100
TZNAME:CET
DTSTART:20241027T010000
END:STANDARD
BEGIN:DAYLIGHT
TZOFFSETFROM:+0100
TZOFFSETTO:+0200
TZNAME:CEST
DTSTART:20250330T010000
END:DAYLIGHT
BEGIN:STANDARD
TZOFFSETFROM:+0200
TZOFFSETTO:+0100
TZNAME:CET
DTSTART:20251026T010000
END:STANDARD
BEGIN:DAYLIGHT
TZOFFSETFROM:+0100
TZOFFSETTO:+0200
TZNAME:CEST
DTSTART:20260329T010000
END:DAYLIGHT
BEGIN:STANDARD
TZOFFSETFROM:+0200
TZOFFSETTO:+0100
TZNAME:CET
DTSTART:20261025T010000
END:STANDARD
END:VTIMEZONE
BEGIN:VEVENT
DTSTART;TZID=Europe/Berlin:20250902T090000
DTEND;TZID=Europe/Berlin:20250902T120000
DTSTAMP:20260422T032717
CREATED:20250916T113720Z
LAST-MODIFIED:20250916T113720Z
UID:9950-1756803600-1756814400@www.netzwerk-finanzkompetenz.com
SUMMARY:Zahlungsverzug: Was passiert\, wenn ich Rechnungen nicht bezahle?
DESCRIPTION:
URL:https://www.netzwerk-finanzkompetenz.com/event/zahlungsverzug-was-passiert-wenn-ich-rechnungen-nicht-bezahle-3/
LOCATION:Gesamtschule Waltrop\, Brockenscheidter Str. 100\, Waltrop\, 45731
CATEGORIES:Vortrag/Seminar
ORGANIZER;CN="Dr. Aare Schaier":MAILTO:aare.schaier@audalis.de
END:VEVENT
END:VCALENDAR