BEGIN:VCALENDAR
VERSION:2.0
PRODID:-//Netzwerk Finanzkompetenz - ECPv6.15.20//NONSGML v1.0//EN
CALSCALE:GREGORIAN
METHOD:PUBLISH
X-WR-CALNAME:Netzwerk Finanzkompetenz
X-ORIGINAL-URL:https://www.netzwerk-finanzkompetenz.com
X-WR-CALDESC:Veranstaltungen für Netzwerk Finanzkompetenz
REFRESH-INTERVAL;VALUE=DURATION:PT1H
X-Robots-Tag:noindex
X-PUBLISHED-TTL:PT1H
BEGIN:VTIMEZONE
TZID:Europe/Berlin
BEGIN:DAYLIGHT
TZOFFSETFROM:+0100
TZOFFSETTO:+0200
TZNAME:CEST
DTSTART:20250330T010000
END:DAYLIGHT
BEGIN:STANDARD
TZOFFSETFROM:+0200
TZOFFSETTO:+0100
TZNAME:CET
DTSTART:20251026T010000
END:STANDARD
BEGIN:DAYLIGHT
TZOFFSETFROM:+0100
TZOFFSETTO:+0200
TZNAME:CEST
DTSTART:20260329T010000
END:DAYLIGHT
BEGIN:STANDARD
TZOFFSETFROM:+0200
TZOFFSETTO:+0100
TZNAME:CET
DTSTART:20261025T010000
END:STANDARD
BEGIN:DAYLIGHT
TZOFFSETFROM:+0100
TZOFFSETTO:+0200
TZNAME:CEST
DTSTART:20270328T010000
END:DAYLIGHT
BEGIN:STANDARD
TZOFFSETFROM:+0200
TZOFFSETTO:+0100
TZNAME:CET
DTSTART:20271031T010000
END:STANDARD
END:VTIMEZONE
BEGIN:VEVENT
DTSTART;TZID=Europe/Berlin:20260113T080000
DTEND;TZID=Europe/Berlin:20260113T130000
DTSTAMP:20260421T180936
CREATED:20260310T112732Z
LAST-MODIFIED:20260310T112732Z
UID:10247-1768291200-1768309200@www.netzwerk-finanzkompetenz.com
SUMMARY:Lebensplanungsseminar
DESCRIPTION:
URL:https://www.netzwerk-finanzkompetenz.com/event/lebensplanungsseminar-24/
LOCATION:Jeanette-Wolff-Schule am Mengeder Markt\, Mengeder Markt 6-8\, Dortmund\, 44359
CATEGORIES:Vortrag/Seminar
ORGANIZER;CN="Daniel Schleimer":MAILTO:daniel.schleimer@wrr-sicherheit.de
END:VEVENT
END:VCALENDAR