BEGIN:VCALENDAR
VERSION:2.0
PRODID:-//Netzwerk Finanzkompetenz - ECPv6.15.20//NONSGML v1.0//EN
CALSCALE:GREGORIAN
METHOD:PUBLISH
X-WR-CALNAME:Netzwerk Finanzkompetenz
X-ORIGINAL-URL:https://www.netzwerk-finanzkompetenz.com
X-WR-CALDESC:Veranstaltungen für Netzwerk Finanzkompetenz
REFRESH-INTERVAL;VALUE=DURATION:PT1H
X-Robots-Tag:noindex
X-PUBLISHED-TTL:PT1H
BEGIN:VTIMEZONE
TZID:Europe/Berlin
BEGIN:DAYLIGHT
TZOFFSETFROM:+0100
TZOFFSETTO:+0200
TZNAME:CEST
DTSTART:20240331T010000
END:DAYLIGHT
BEGIN:STANDARD
TZOFFSETFROM:+0200
TZOFFSETTO:+0100
TZNAME:CET
DTSTART:20241027T010000
END:STANDARD
BEGIN:DAYLIGHT
TZOFFSETFROM:+0100
TZOFFSETTO:+0200
TZNAME:CEST
DTSTART:20250330T010000
END:DAYLIGHT
BEGIN:STANDARD
TZOFFSETFROM:+0200
TZOFFSETTO:+0100
TZNAME:CET
DTSTART:20251026T010000
END:STANDARD
BEGIN:DAYLIGHT
TZOFFSETFROM:+0100
TZOFFSETTO:+0200
TZNAME:CEST
DTSTART:20260329T010000
END:DAYLIGHT
BEGIN:STANDARD
TZOFFSETFROM:+0200
TZOFFSETTO:+0100
TZNAME:CET
DTSTART:20261025T010000
END:STANDARD
END:VTIMEZONE
BEGIN:VEVENT
DTSTART;TZID=Europe/Berlin:20250627T080000
DTEND;TZID=Europe/Berlin:20250627T120000
DTSTAMP:20260422T050632
CREATED:20250711T142722Z
LAST-MODIFIED:20250711T142722Z
UID:9716-1751011200-1751025600@www.netzwerk-finanzkompetenz.com
SUMMARY:Lebensplanungsseminar
DESCRIPTION:
URL:https://www.netzwerk-finanzkompetenz.com/event/lebensplanungsseminar-15/
LOCATION:Schule am Hafen\, Scharnhorststr. 40\, Dortmund\, 44147
CATEGORIES:Vortrag/Seminar
ORGANIZER;CN="Daniel Schleimer":MAILTO:daniel.schleimer@wrr-sicherheit.de
END:VEVENT
BEGIN:VEVENT
DTSTART;TZID=Europe/Berlin:20250630T080000
DTEND;TZID=Europe/Berlin:20250630T120000
DTSTAMP:20260422T050632
CREATED:20250711T142808Z
LAST-MODIFIED:20250711T142808Z
UID:9718-1751270400-1751284800@www.netzwerk-finanzkompetenz.com
SUMMARY:Lebensplanungsseminar
DESCRIPTION:
URL:https://www.netzwerk-finanzkompetenz.com/event/lebensplanungsseminar-16/
LOCATION:Robert-Koch-Realschule\, Am Hombruchsfeld 69\, Dortmund\, 44225
CATEGORIES:Vortrag/Seminar
ORGANIZER;CN="Ali Tasbas":MAILTO:tasbas@lernstudio-iq.de
END:VEVENT
END:VCALENDAR