BEGIN:VCALENDAR
VERSION:2.0
PRODID:-//Netzwerk Finanzkompetenz - ECPv6.15.20//NONSGML v1.0//EN
CALSCALE:GREGORIAN
METHOD:PUBLISH
X-ORIGINAL-URL:https://www.netzwerk-finanzkompetenz.com
X-WR-CALDESC:Veranstaltungen für Netzwerk Finanzkompetenz
REFRESH-INTERVAL;VALUE=DURATION:PT1H
X-Robots-Tag:noindex
X-PUBLISHED-TTL:PT1H
BEGIN:VTIMEZONE
TZID:Europe/Berlin
BEGIN:DAYLIGHT
TZOFFSETFROM:+0100
TZOFFSETTO:+0200
TZNAME:CEST
DTSTART:20240331T010000
END:DAYLIGHT
BEGIN:STANDARD
TZOFFSETFROM:+0200
TZOFFSETTO:+0100
TZNAME:CET
DTSTART:20241027T010000
END:STANDARD
BEGIN:DAYLIGHT
TZOFFSETFROM:+0100
TZOFFSETTO:+0200
TZNAME:CEST
DTSTART:20250330T010000
END:DAYLIGHT
BEGIN:STANDARD
TZOFFSETFROM:+0200
TZOFFSETTO:+0100
TZNAME:CET
DTSTART:20251026T010000
END:STANDARD
BEGIN:DAYLIGHT
TZOFFSETFROM:+0100
TZOFFSETTO:+0200
TZNAME:CEST
DTSTART:20260329T010000
END:DAYLIGHT
BEGIN:STANDARD
TZOFFSETFROM:+0200
TZOFFSETTO:+0100
TZNAME:CET
DTSTART:20261025T010000
END:STANDARD
END:VTIMEZONE
BEGIN:VEVENT
DTSTART;TZID=Europe/Berlin:20250512T080000
DTEND;TZID=Europe/Berlin:20250512T120000
DTSTAMP:20260422T063702
CREATED:20250711T142517Z
LAST-MODIFIED:20250711T142517Z
UID:9712-1747036800-1747051200@www.netzwerk-finanzkompetenz.com
SUMMARY:Lebensplanungsseminar
DESCRIPTION:
URL:https://www.netzwerk-finanzkompetenz.com/event/lebensplanungsseminar-13/
LOCATION:Jeanette-Wolff-Schule am Mengeder Markt\, Mengeder Markt 6-8\, Dortmund\, 44359
CATEGORIES:Vortrag/Seminar
ORGANIZER;CN="Daniel Schleimer":MAILTO:daniel.schleimer@wrr-sicherheit.de
END:VEVENT
BEGIN:VEVENT
DTSTART;TZID=Europe/Berlin:20250517T080000
DTEND;TZID=Europe/Berlin:20250517T120000
DTSTAMP:20260422T063702
CREATED:20250711T144645Z
LAST-MODIFIED:20250711T144645Z
UID:9727-1747468800-1747483200@www.netzwerk-finanzkompetenz.com
SUMMARY:Lebensplanungsseminar
DESCRIPTION:
URL:https://www.netzwerk-finanzkompetenz.com/event/lebensplanungsseminar-19/
LOCATION:Vincenz-von-Paul-Schule\, Oesterholzstr. 85-91\, Dortmund\, 44145
CATEGORIES:Vortrag/Seminar
ORGANIZER;CN="Thomas Lesser":MAILTO:t.lesser@greenit.systems
END:VEVENT
BEGIN:VEVENT
DTSTART;TZID=Europe/Berlin:20250521T080000
DTEND;TZID=Europe/Berlin:20250521T120000
DTSTAMP:20260422T063702
CREATED:20250711T142627Z
LAST-MODIFIED:20250711T142627Z
UID:9714-1747814400-1747828800@www.netzwerk-finanzkompetenz.com
SUMMARY:Lebensplanungsseminar
DESCRIPTION:
URL:https://www.netzwerk-finanzkompetenz.com/event/lebensplanungsseminar-14/
LOCATION:Schule am Hafen\, Scharnhorststr. 40\, Dortmund\, 44147
CATEGORIES:Vortrag/Seminar
ORGANIZER;CN="Daniel Schleimer":MAILTO:daniel.schleimer@wrr-sicherheit.de
END:VEVENT
END:VCALENDAR